
BEGIN:VCALENDAR
VERSION:2.0
PRODID:-//F.I.M.M.G. Sezione di Latina - ECPv6.15.18//NONSGML v1.0//EN
CALSCALE:GREGORIAN
METHOD:PUBLISH
X-ORIGINAL-URL:https://www.fimmglatina.org
X-WR-CALDESC:Eventi per F.I.M.M.G. Sezione di Latina
REFRESH-INTERVAL;VALUE=DURATION:PT1H
X-Robots-Tag:noindex
X-PUBLISHED-TTL:PT1H
BEGIN:VTIMEZONE
TZID:Europe/Rome
BEGIN:DAYLIGHT
TZOFFSETFROM:+0100
TZOFFSETTO:+0200
TZNAME:CEST
DTSTART:20240331T010000
END:DAYLIGHT
BEGIN:STANDARD
TZOFFSETFROM:+0200
TZOFFSETTO:+0100
TZNAME:CET
DTSTART:20241027T010000
END:STANDARD
BEGIN:DAYLIGHT
TZOFFSETFROM:+0100
TZOFFSETTO:+0200
TZNAME:CEST
DTSTART:20250330T010000
END:DAYLIGHT
BEGIN:STANDARD
TZOFFSETFROM:+0200
TZOFFSETTO:+0100
TZNAME:CET
DTSTART:20251026T010000
END:STANDARD
BEGIN:DAYLIGHT
TZOFFSETFROM:+0100
TZOFFSETTO:+0200
TZNAME:CEST
DTSTART:20260329T010000
END:DAYLIGHT
BEGIN:STANDARD
TZOFFSETFROM:+0200
TZOFFSETTO:+0100
TZNAME:CET
DTSTART:20261025T010000
END:STANDARD
END:VTIMEZONE
BEGIN:VEVENT
DTSTART;TZID=Europe/Rome:20251108T083000
DTEND;TZID=Europe/Rome:20251108T170000
DTSTAMP:20260422T210256
CREATED:20250901T162126Z
LAST-MODIFIED:20251023T161336Z
UID:41198-1762590600-1762621200@www.fimmglatina.org
SUMMARY:LATINA: CONGRESSO PROVINCIALE FIMMG & SIMG - LA MEDICINA GENERALE NELLE NUOVE SFIDE ALLA LUCE DEL D.M. 77
DESCRIPTION:  \nSabato 8 Novembre 2025\nORDINE MEDICI DI LATINA \nlocandina \nScreenshot\nE’ con piacere che la sezione Provinciale della FIMMG e della Simg vi invitano a partecipare a questo evento simbolo di sinergia tra la Società Scientifica e il maggio Sindacato rappresentativi della medicina generale. \nPer le iscrizioni: \nhttp://www.hinovia.com/nuove-sfide-dm77\n  \nShare on: WhatsApp
URL:https://www.fimmglatina.org/evento/latina-congresso-provinciale-fimmg-simg-la-medicina-generale-nelle-nuove-sfide-alla-luce-del-d-m-77/
LOCATION:Ordine Dei Medici LT\, Piazza Celli 3\, latina\, Latina\, 04100
ATTACH;FMTTYPE=image/jpeg:https://www.fimmglatina.org/wp-content/uploads/2025/09/IMG_5897.jpeg
END:VEVENT
END:VCALENDAR