
BEGIN:VCALENDAR
VERSION:2.0
PRODID:-//F.I.M.M.G. Sezione di Latina - ECPv6.15.18//NONSGML v1.0//EN
CALSCALE:GREGORIAN
METHOD:PUBLISH
X-ORIGINAL-URL:https://www.fimmglatina.org
X-WR-CALDESC:Eventi per F.I.M.M.G. Sezione di Latina
REFRESH-INTERVAL;VALUE=DURATION:PT1H
X-Robots-Tag:noindex
X-PUBLISHED-TTL:PT1H
BEGIN:VTIMEZONE
TZID:Europe/Rome
BEGIN:DAYLIGHT
TZOFFSETFROM:+0100
TZOFFSETTO:+0200
TZNAME:CEST
DTSTART:20180325T010000
END:DAYLIGHT
BEGIN:STANDARD
TZOFFSETFROM:+0200
TZOFFSETTO:+0100
TZNAME:CET
DTSTART:20181028T010000
END:STANDARD
BEGIN:DAYLIGHT
TZOFFSETFROM:+0100
TZOFFSETTO:+0200
TZNAME:CEST
DTSTART:20190331T010000
END:DAYLIGHT
BEGIN:STANDARD
TZOFFSETFROM:+0200
TZOFFSETTO:+0100
TZNAME:CET
DTSTART:20191027T010000
END:STANDARD
BEGIN:DAYLIGHT
TZOFFSETFROM:+0100
TZOFFSETTO:+0200
TZNAME:CEST
DTSTART:20200329T010000
END:DAYLIGHT
BEGIN:STANDARD
TZOFFSETFROM:+0200
TZOFFSETTO:+0100
TZNAME:CET
DTSTART:20201025T010000
END:STANDARD
BEGIN:DAYLIGHT
TZOFFSETFROM:+0100
TZOFFSETTO:+0200
TZNAME:CEST
DTSTART:20210328T010000
END:DAYLIGHT
BEGIN:STANDARD
TZOFFSETFROM:+0200
TZOFFSETTO:+0100
TZNAME:CET
DTSTART:20211031T010000
END:STANDARD
BEGIN:DAYLIGHT
TZOFFSETFROM:+0100
TZOFFSETTO:+0200
TZNAME:CEST
DTSTART:20220327T010000
END:DAYLIGHT
BEGIN:STANDARD
TZOFFSETFROM:+0200
TZOFFSETTO:+0100
TZNAME:CET
DTSTART:20221030T010000
END:STANDARD
BEGIN:DAYLIGHT
TZOFFSETFROM:+0100
TZOFFSETTO:+0200
TZNAME:CEST
DTSTART:20230326T010000
END:DAYLIGHT
BEGIN:STANDARD
TZOFFSETFROM:+0200
TZOFFSETTO:+0100
TZNAME:CET
DTSTART:20231029T010000
END:STANDARD
BEGIN:DAYLIGHT
TZOFFSETFROM:+0100
TZOFFSETTO:+0200
TZNAME:CEST
DTSTART:20240331T010000
END:DAYLIGHT
BEGIN:STANDARD
TZOFFSETFROM:+0200
TZOFFSETTO:+0100
TZNAME:CET
DTSTART:20241027T010000
END:STANDARD
BEGIN:DAYLIGHT
TZOFFSETFROM:+0100
TZOFFSETTO:+0200
TZNAME:CEST
DTSTART:20250330T010000
END:DAYLIGHT
BEGIN:STANDARD
TZOFFSETFROM:+0200
TZOFFSETTO:+0100
TZNAME:CET
DTSTART:20251026T010000
END:STANDARD
BEGIN:DAYLIGHT
TZOFFSETFROM:+0100
TZOFFSETTO:+0200
TZNAME:CEST
DTSTART:20260329T010000
END:DAYLIGHT
BEGIN:STANDARD
TZOFFSETFROM:+0200
TZOFFSETTO:+0100
TZNAME:CET
DTSTART:20261025T010000
END:STANDARD
END:VTIMEZONE
BEGIN:VEVENT
DTSTART;TZID=Europe/Rome:20251108T083000
DTEND;TZID=Europe/Rome:20251108T170000
DTSTAMP:20260422T194010
CREATED:20250901T162126Z
LAST-MODIFIED:20251023T161336Z
UID:41198-1762590600-1762621200@www.fimmglatina.org
SUMMARY:LATINA: CONGRESSO PROVINCIALE FIMMG & SIMG - LA MEDICINA GENERALE NELLE NUOVE SFIDE ALLA LUCE DEL D.M. 77
DESCRIPTION:  \nSabato 8 Novembre 2025\nORDINE MEDICI DI LATINA \nlocandina \nScreenshot\nE’ con piacere che la sezione Provinciale della FIMMG e della Simg vi invitano a partecipare a questo evento simbolo di sinergia tra la Società Scientifica e il maggio Sindacato rappresentativi della medicina generale. \nPer le iscrizioni: \nhttp://www.hinovia.com/nuove-sfide-dm77\n  \nShare on: WhatsApp
URL:https://www.fimmglatina.org/evento/latina-congresso-provinciale-fimmg-simg-la-medicina-generale-nelle-nuove-sfide-alla-luce-del-d-m-77/
LOCATION:Ordine Dei Medici LT\, Piazza Celli 3\, latina\, Latina\, 04100
ATTACH;FMTTYPE=image/jpeg:https://www.fimmglatina.org/wp-content/uploads/2025/09/IMG_5897.jpeg
END:VEVENT
BEGIN:VEVENT
DTSTART;TZID=Europe/Rome:20250920T090000
DTEND;TZID=Europe/Rome:20250920T170000
DTSTAMP:20260422T194010
CREATED:20250901T160225Z
LAST-MODIFIED:20250901T160430Z
UID:41190-1758358800-1758387600@www.fimmglatina.org
SUMMARY:SIMG: ACCADEMIA VACCINI
DESCRIPTION:La Simg è lieta di invitarvi ad un evento che si svolgerà in priù province e in più regioni al fine di migliorare le nostre conoscenze nel campo delle vaccinazioni. E’ importante iscriversi a questo link: \nhttps://www.multipla.cloud/it/info-attivita?id=899 \nVi aspettiamo \nIl 20 Settembre 2025 \nHotel Europa Latina\nVia Emanuele Filiberto\, 14\, 04100 Latina\nLATINA (LT) \nPer saperne di più\, cosa è FORMAVAX clicca \n PROGRAMMA09.00\nIntroduzione al corso ed obiettivi formativi\nGiulia Ciancarella\, Gaetano Marrocco\, Gianmarco Rea \n09.10\nLe vaccinazioni dell’adulto: il nuovo PNPV\, obiettivi e novità\nGaetano Marrocco \n09.40-10.10\nIndicazioni alle vaccinazioni dell’adulto\n• PNPV\n• Schede Ruggeri\n• Co-somministrazioni\nGaetano Marrocco \n10.10\nMegaquiz a punti: l’uso del gioco nell’apprendimento dell’adulto\nGiulia Ciancarella \n11.00\nCoffee break \n11.15-11.45\nGovernance delle vaccinazioni gli step che precedono la seduta\n• Selezione del paziente: utilità dei software\n• Chiamata attiva: scopo\, modalità\, esempi di piattaforme per invio di informative al paziente\n• Le agende elettroniche\n• Lavorare da soli\, lavorare in microteam\, lavorare in gruppo: confronto e compiti\nGianmarco Rea \n11.45-12.15\nL’organizzazione dell’ambulatorio prima e durante la seduta vaccinale\n• Farmaci\n• Gestione degli spazi\n• I tempi della seduta\nGiulia Ciancarella \n12.15\nL’anamnesi prima del vaccino: quali controindicazioni?\nGaetano Marrocco \n12.45\nDiscussione in aula \n13.00\nLunch \n13.45\nIl counselling e l’esitazione vaccinale\nGiulia Ciancarella \n14.15\nFocus sulla vaccinazione per l’influenza\nGianmarco Rea \n14.45\nFocus sulla vaccinazione per RSV\nGiulia Ciancarella \n15.15\nFocus sulla vaccinazione per Herpes Zoster\nGianmarco Rea \n15.45\nFocus sulla vaccinazione per lo pneumococco\nGianmarco Rea \n16.15\nFocus sulla vaccinazione per il Covid19\nGiulia Ciancarella \n16.30\nFocus sulla vaccinazione HPV\nGaetano Marrocco \n16.45\nFocus sulle vaccinazioni dei viaggiatori\nGiulia Ciancarella \n17.00\nDiscussione in aula \n17.30\nTake Home Messages\nGiulia Ciancarella\, Gaetano Marrocco\, Gianmarco Rea \n17.45\nTermine del Corso \nQuestionario di verifica dell’apprendimento e questionario di valutazione evento\n(disponibili on-line dal 21 al 23 settembre 2025) \n DISCIPLINEMedico chirurgo \nAllergologia ed immunologia clinica\, Cardiologia\, Chirurgia generale\, Continuità assistenziale\, Epidemiologia\, Farmacologia e tossicologia clinica\, Igiene\, epidemiologia e sanità pubblica\, Malattie dell'apparato respiratorio\, Malattie infettive\, Malattie metaboliche e diabetologia\, Medicina del lavoro e sicurezza degli ambienti di lavoro\, Medicina di comunità\, Medicina generale (medici di famiglia)\, Medicina interna\, Microbiologia e virologia \n INFORMAZIONI GENERALIPROVIDER E SEGRETERIA ORGANIZZATIVA \n\n \nEuromediform S.r.l\nVia A. Cesalpino\, 5/b - 50134 Firenze\nTel. 055 795421\ninfo@euromediform.it \nConsulta l'informativa "PRIVACY - Partecipanti corsi ECM" al seguente link: https://ecm.agenas.it/privacy-policy \n \n  \n  \n  \nShare on: WhatsApp
URL:https://www.fimmglatina.org/evento/simg-accademia-vaccini/
LOCATION:Hotel Europa Latina\, Via E. Filiberto 14\, Latina
ATTACH;FMTTYPE=image/jpeg:https://www.fimmglatina.org/wp-content/uploads/2025/09/banner_accademia_vaccini_latina-1.jpg
END:VEVENT
BEGIN:VEVENT
DTSTART;TZID=Europe/Rome:20190920T080000
DTEND;TZID=Europe/Rome:20190921T173000
DTSTAMP:20260422T194010
CREATED:20190911T084117Z
LAST-MODIFIED:20190911T084935Z
UID:11195-1568966400-1569087000@www.fimmglatina.org
SUMMARY:AFFRONTIAMO LE SFIDE DEL FUTURO: SIMG LAZIO
DESCRIPTION:La Società Italiana di Medicina Generale è lieta di invitarvi al prossimo\n\nCongresso SIMG Regione Lazio.\n\nL’evento si svolgerà il 20 e 21 settembre p\n presso l’Hotel Colombo a Roma\,\nin Via Cristoforo Colombo\, 710\, 00144 Roma RM\,\n\nLa partecipazione è gratuita previa iscrizione via mail (simglazio19@alfafcm.com).\n\nOltre al congresso principale\, è possibile preiscriversi a due workshop di dermatologia e uno di infiltrazioni articolari (40 posti in totale\, se interessati affrettatevi!)\n\nQuest’anno abbiamo organizzato dei mini corsi pratici per piccoli gruppi\, basati sull’utilizzo di simulatori.\nDi seguito descrizione dei corsi e orari.\n\n\nCardionics: simulatore di auscultazione cardiopolmonare. Obiettivo: permettere di riconoscere i principali suoni cardiaci e respiratori\, correlandoli alla presentazione clinica. 6 discenti max per turno. Durata 45 min.\nTurni: venerdì 16.30 e 17.15. Sabato 10.15\, 11\, 14.15 e 15\n\nCateteri urinari: manichini di apparato urogenitale maschile e femminile. obiettivo: imparare le indicazioni e la tecnica per la cateterizzazione. Durata 30 min. Max 8 partecipanti a turno\nTurni: venerdì 16.30\, 17\, 17.30. Sabato  10.15\, 10.45\, 11.15\, 14.15\, 14.45 e 15.15\n\nOtosim: simulatore di otoscopia+ collegamento a schermo PC. Obiettivo: riconoscere le strutture normali e i principali quadri patologici. Durata 45 min. Max 5 partecipanti a turno\nTurni: venerdì 16.30 e 17.15. Sabato 11\, 14.15 e 15\n\nSpalla: simulatore per infiltrazioni. Obiettivo: imparare indicazioni e tecnica per l’infiltrazione di spalla. Max 7 partecipanti a turno. Durata 30 min\nTurni: venerdì 16.30\, 17\, 17.30. Sabato  10.15\, 10.45\, 11.15\, 14.15\, 14.45 e 15.15\n\n\n\nSe interessati ai simulatori\, fate domanda senza indugio e date alla segreteria più di una preferenza per l’orario\, perché (viste le iscrizioni attuali) prevediamo che si saturino prestissimo.\n\n\n\nSarà ancora possibile iscriversi in sede venerdì dalle 14 alle 15\, se fossero rimasti posti liberi.\n\nVi aspettiamo!\n\nSIMG REGIONE LAZIO\n\n\n\n\n\nShare on: WhatsApp
URL:https://www.fimmglatina.org/evento/affrontiamo-le-sfide-del-futuro-simg-lazio/
LOCATION:Hotel Cristoforo Colombo\, Via Cristoforo Colombo 710\, Roma
CATEGORIES:Convegni
ATTACH;FMTTYPE=image/jpeg:https://www.fimmglatina.org/wp-content/uploads/2019/09/download-3.jpeg
END:VEVENT
END:VCALENDAR